BEGIN:VCALENDAR
VERSION:2.0
PRODID:-//Zäme redä, zäme läbe - ECPv6.15.20//NONSGML v1.0//EN
CALSCALE:GREGORIAN
METHOD:PUBLISH
X-WR-CALNAME:Zäme redä, zäme läbe
X-ORIGINAL-URL:https://www.generationen-miteinander.ch
X-WR-CALDESC:Veranstaltungen für Zäme redä, zäme läbe
REFRESH-INTERVAL;VALUE=DURATION:PT1H
X-Robots-Tag:noindex
X-PUBLISHED-TTL:PT1H
BEGIN:VTIMEZONE
TZID:UTC
BEGIN:STANDARD
TZOFFSETFROM:+0000
TZOFFSETTO:+0000
TZNAME:UTC
DTSTART:20250101T000000
END:STANDARD
END:VTIMEZONE
BEGIN:VEVENT
DTSTART;TZID=UTC:20260421T190000
DTEND;TZID=UTC:20260421T210000
DTSTAMP:20260421T112007
CREATED:20250422T193256Z
LAST-MODIFIED:20260310T093923Z
UID:479-1776798000-1776805200@www.generationen-miteinander.ch
SUMMARY:Vorsorge und Erbrecht
DESCRIPTION:Unser Vortrag gibt Dir Einsicht in die Nachlassplanung. Der Anlass beleuchtet die rechtlichen Situationen in unterschiedlichen Lebensphasen. \nNotar Hans-Heinrich Weber zeigt anhand verständlicher Beispiele auf\, welche Möglichkeiten das Erb- und Güterrecht sowie der Vorsorgeauftrag bieten. \n Informationen:\nOrt: Klösterli Klösterliweg 9 3653 Oberhofen\nZeit: 19.00 Uhr\nKosten: Eintritt frei | Spende \nBrigitte Weber 079 480 50 10 anlaesse@frauenverein-ohh.ch
URL:https://www.generationen-miteinander.ch/event/datenschutz-was-du-wissen-solltest/
LOCATION:Klösterli Oberhofen\, Klösterliweg 9\, Oberhofen\, 3653
ATTACH;FMTTYPE=image/jpeg:https://www.generationen-miteinander.ch/wp-content/uploads/2025/04/Vorsorge_.jpg
END:VEVENT
BEGIN:VEVENT
DTSTART;TZID=UTC:20260422T140000
DTEND;TZID=UTC:20260422T170000
DTSTAMP:20260421T112007
CREATED:20250912T114029Z
LAST-MODIFIED:20260319T093654Z
UID:642-1776866400-1776877200@www.generationen-miteinander.ch
SUMMARY:Zäme zeichne
DESCRIPTION:Mit der Zentangle-Methode zeichnen wir schöne Muster auf Karten. Dies ist eine einfache Methode\, mit Stift und Papier kreativ zu sein\, sich zu entspannen und etwas Schönes zu gestalten. \nStifte und Karten stehen zur Verfügung. Patricia Hermann zeigt uns\, wie der Anfang gelingt.
URL:https://www.generationen-miteinander.ch/event/zaeme-zeichne/
LOCATION:Höfli-Kafi\, Hünibachstrasse 65\, Hünibach\, Bern\, 3626\, Switzerland
ATTACH;FMTTYPE=image/jpeg:https://www.generationen-miteinander.ch/wp-content/uploads/2025/09/zentangle.jpg
END:VEVENT
BEGIN:VEVENT
DTSTART;TZID=UTC:20260423T140000
DTEND;TZID=UTC:20260423T170000
DTSTAMP:20260421T112007
CREATED:20250309T164121Z
LAST-MODIFIED:20260327T083009Z
UID:393-1776952800-1776963600@www.generationen-miteinander.ch
SUMMARY:Zäme jasse
DESCRIPTION:Herbert Graf und Erwin Zumkehr freuen sich auf alle\, die gemeinsam das Spielen geniessen wollen.
URL:https://www.generationen-miteinander.ch/event/zaeme-jasse/
LOCATION:Höfli-Kafi\, Hünibachstrasse 65\, Hünibach\, Bern\, 3626\, Switzerland
ATTACH;FMTTYPE=image/jpeg:https://www.generationen-miteinander.ch/wp-content/uploads/2025/03/jasskarten-franzoesisch.jpg
END:VEVENT
BEGIN:VEVENT
DTSTART;TZID=UTC:20260425T093000
DTEND;TZID=UTC:20260425T113000
DTSTAMP:20260421T112007
CREATED:20260126T083317Z
LAST-MODIFIED:20260410T121904Z
UID:1114-1777109400-1777116600@www.generationen-miteinander.ch
SUMMARY:Besichtigung Feuerwehr Hilterfingen
DESCRIPTION:Wir laden euch herzlich zu einem spannenden Besuch bei der Feuerwehr ein! \nWir verbringen interessante Stunden im Feuerwehrmagazin Hünibach. Feuerwehrkommandant Samuel Frutiger führt uns durch den Vormittag und erzählt viel Wissenswertes über das Feuerwehrwesen.\nErhaltet Einblick\, wie die Feuerwehr arbeitet\, schaut euch die Einsatzfahrzeuge an und erfahrt Wissenswertes über Brandschutz und Notfälle. \nFlyer
URL:https://www.generationen-miteinander.ch/event/besichtigung-feuerwehr-hilterfingen/
LOCATION:Bern
ATTACH;FMTTYPE=image/jpeg:https://www.generationen-miteinander.ch/wp-content/uploads/2026/01/magazin-innen.jpg
ORGANIZER;CN="Z%C3%A4me red%C3%A4%2C z%C3%A4me l%C3%A4be":MAILTO:kontakt@generationen-miteinander.ch
END:VEVENT
BEGIN:VEVENT
DTSTART;TZID=UTC:20260506T130000
DTEND;TZID=UTC:20260506T170000
DTSTAMP:20260421T112007
CREATED:20250408T144018Z
LAST-MODIFIED:20260416T070939Z
UID:468-1778072400-1778086800@www.generationen-miteinander.ch
SUMMARY:Zäme usflüge - Im Naturschutzgebiet Weissenau
DESCRIPTION:Ab Interlaken West begegnen wir dem Frühling auf dem beschaulichen Spazierweg durch das Naturschutzgebiet Weissenau.\nZum Zvieri werden wir im Restaurant «Neuhaus» erwartet. \nTreffpunkt im STI-Bus 21 Chartreuse ab: 13.10 Uhr\nHilterfingen Post ab: 13.13 Uhr\nOberhofen Dorf ab: 13.16 Uhr \nRückfahrt: Neuhaus ab: 16.47 Uhr\nBillett lösen: Libero Tageskarte für CHF 15.60\nAnmeldungen bitte bis Montag\, 4. Mai an Margrit Aeschlimann\, 033 243 61 41.\nWir freuen uns sehr\, Ihnen zu begegnen und mit Ihnen unterwegs zu sein!\nUrsula Graber\, Nicole Kuypers und Margrit Aeschlimann \n 
URL:https://www.generationen-miteinander.ch/event/zaeme-usfluege/
LOCATION:Bern
ATTACH;FMTTYPE=image/jpeg:https://www.generationen-miteinander.ch/wp-content/uploads/2025/04/weissenau.jpg
END:VEVENT
BEGIN:VEVENT
DTSTART;TZID=UTC:20260507T160000
DTEND;TZID=UTC:20260507T173000
DTSTAMP:20260421T112007
CREATED:20260410T103639Z
LAST-MODIFIED:20260410T103735Z
UID:1228-1778169600-1778175000@www.generationen-miteinander.ch
SUMMARY:Zäme Schach spiele
DESCRIPTION:Schach lernen oder Kenntnisse vertiefen – \nzusammen spielen und dazulernen – \nSpass am königlichen Spiel haben \nund gleichzeitig geistig agil bleiben. \nWANN: Donnerstag\, 7. Mai | 21. Mai | 11. Juni jeweils 16:00–17:30 Uhr \nRoderick Chuck\, begeisterter Schachspieler und Kursleiter\, freut sich\, mit Interessierten Schach zu spielen.\nAuskunft: 079 396 19 42 oder rod.chuck@rhone.ch \nBringt euer eigenes Schachbrett und Figuren bitte mit\, falls ihr welche habt! \nFlyer
URL:https://www.generationen-miteinander.ch/event/zaeme-schach-spiele/
LOCATION:Höfli-Kafi\, Hünibachstrasse 65\, Hünibach\, Bern\, 3626\, Switzerland
ATTACH;FMTTYPE=image/jpeg:https://www.generationen-miteinander.ch/wp-content/uploads/2026/04/schach_klein.jpg
ORGANIZER;CN="Z%C3%A4me red%C3%A4%2C z%C3%A4me l%C3%A4be":MAILTO:kontakt@generationen-miteinander.ch
END:VEVENT
BEGIN:VEVENT
DTSTART;TZID=UTC:20260518T160000
DTEND;TZID=UTC:20260518T180000
DTSTAMP:20260421T112007
CREATED:20260125T143830Z
LAST-MODIFIED:20260125T143830Z
UID:1108-1779120000-1779127200@www.generationen-miteinander.ch
SUMMARY:Stammtisch Mai 2026 - Generationen miteinander
DESCRIPTION:Wir treffen uns in lockerer Atmosphäre und tauschen unsere Ideen und Erwartungen zum Zusammenleben in unseren Gemeinden aus.\nMenschen aus allen Altersgruppen sind herzlich willkommen! Keine Anmeldung notwenig! \nMontag\, 18. Mai 16 – 18 Uhr – Aussensitzplatz Überbauung Richtstatt\, Oberhofen \nmit Monika Thüler\, Geschäftsleitung SPITEX-Dienste RUTU\,\nKarin Bleiker\, Bereichsleiterin Regionaler Sozialdienst Oberhofen\nund Martha Bieri\, Gemeinderätin Soziales und Kultur\nBei schlechtem Wetter im Seniorama Oberhofen \nBei Fragen kannst du dich gerne melden unter\n077 408 27 08 (SMS / WhatsUp) oder kontakt@generationen-miteinander.ch \n  \n  \n 
URL:https://www.generationen-miteinander.ch/event/stammtisch-mai-2026-generationen-miteinander/
LOCATION:Bern
ATTACH;FMTTYPE=image/png:https://www.generationen-miteinander.ch/wp-content/uploads/2025/11/Zaeme-laebe-zaeme-redae-Tischrunde--scaled-e1763658256130.png
ORGANIZER;CN="Z%C3%A4me red%C3%A4%2C z%C3%A4me l%C3%A4be":MAILTO:kontakt@generationen-miteinander.ch
END:VEVENT
BEGIN:VEVENT
DTSTART;TZID=UTC:20260520T140000
DTEND;TZID=UTC:20260520T170000
DTSTAMP:20260421T112007
CREATED:20260122T161526Z
LAST-MODIFIED:20260410T122521Z
UID:1088-1779285600-1779296400@www.generationen-miteinander.ch
SUMMARY:Spielnachmittag
DESCRIPTION:Wir bieten zwischen Mai und September einen Spielnachmittag an einem geeigneten Ort in jedem Dorf unserer drei Gemeinden an\, z.B. auf dem Schulhausplatz oder auf einem öffentlichen Spielplatz. \nDie Spielnachmittage richten sich an Familien mit Kindern im Alter bis ca. 10 Jahren. Es wird ein abwechslungsreicher Rahmen geschafft\, in dem Kinder spielen\, Eltern/Begleitpersonen sich austauschen und Familien gemeinsam Zeit verbringen können.\nWichtig zu beachten: Keine Kinderbetreuung vorgesehen. Zvieri und Getränke bitte selber mitnehmen! \nDer erste Spielnachmittag findet statt am Mittwoch\, 20. Mai 2026\, zwischen 14 und 17 Uhr im Hof des Begegnungszentrums der Kirchgemeinde Hilterfingen\, Hünibachstrasse 65\, Hünibach. \nMöchtest Du uns dabei unterstützen? Mit der Werbung\, Hilfe beim Auf- und Abbauen oder Transport? Dann melde Dich bitte unter kontakt@generationen-miteinander oder per WhatsApp/SMS 077 408 27 08 \nFlyer
URL:https://www.generationen-miteinander.ch/event/spielnachmittag-3/
LOCATION:Hof Begegnungszentrum Hünibach\, Hünibachstrasse 65\, Hünibach\, 3626
ATTACH;FMTTYPE=image/jpeg:https://www.generationen-miteinander.ch/wp-content/uploads/2026/01/spielnachmittag.jpg
ORGANIZER;CN="Z%C3%A4me red%C3%A4%2C z%C3%A4me l%C3%A4be":MAILTO:kontakt@generationen-miteinander.ch
END:VEVENT
BEGIN:VEVENT
DTSTART;VALUE=DATE:20260529
DTEND;VALUE=DATE:20260530
DTSTAMP:20260421T112007
CREATED:20260327T084145Z
LAST-MODIFIED:20260327T084145Z
UID:1225-1780012800-1780099199@www.generationen-miteinander.ch
SUMMARY:Tag der Nachbarschaft
DESCRIPTION:Tag der Nachbarschaft in Heiligenschwendi\, Hilterfingen und Oberhofen\nDieser besondere Tag steht ganz im Zeichen des nachbarschaftlichen Miteinanders\, der Begegnung und der Förderung des lokalen Zusammenhalts. Gemeinsam mit engagierten Akteurinnen und Akteuren aus den Gemeinden möchten wir ein vielfältiges\, offenes und lebendiges Programm gestalten. Am Tag der Nachbarschaft ist die Bevölkerung eingeladen\, in ihrem näheren Wohnumfeld etwas für oder mit ihren Nachbarinnen und Nachbarn zu unternehmen. \nDieser Gedanke entspricht den Zielen des Generationenleitbildes mit dem Motto: zäme redä\, zäme läbe\, zäme mache. Deshalb engagiert sich der Generationenrat\, um den Tag der Nachbarschaft auch in unseren drei Gemeinden Heiligenschwendi\, Hilterfingen und Oberhofen zu etablieren.
URL:https://www.generationen-miteinander.ch/event/tag-der-nachbarschaft/
LOCATION:Bern
ATTACH;FMTTYPE=image/jpeg:https://www.generationen-miteinander.ch/wp-content/uploads/2025/11/motiv.jpg
ORGANIZER;CN="Z%C3%A4me red%C3%A4%2C z%C3%A4me l%C3%A4be":MAILTO:kontakt@generationen-miteinander.ch
END:VEVENT
BEGIN:VEVENT
DTSTART;TZID=UTC:20260609T140000
DTEND;TZID=UTC:20260609T160000
DTSTAMP:20260421T112007
CREATED:20260319T092341Z
LAST-MODIFIED:20260319T092538Z
UID:1211-1781013600-1781020800@www.generationen-miteinander.ch
SUMMARY:Mit der SBB-App auf Reisen
DESCRIPTION:Möchten Sie unterwegs ein Billett mit dem Smartphone kaufen? Die beste Verbindung für Ihre Reise finden? Oder endlich von den Sparbilletten und -tageskarten profitieren\, die nur digital erhältlich sind. Wir zeigen Ihnen wie einfach der Kauf mit «SBB Mobile» ist. Lernen Sie im 2-stündigen Kurs die vielseitigen Möglichkeiten der App «SBB Mobile» kennen. So wird Ihr Smartphone zum praktischen Reisebegleiter. \nWas werden Sie lernen?\n\nFahrplan abfragen\nBillette kaufen\nVoraussetzungen für den Billettkauf kennen\n(SwissPass\, Zahlungsmittel)\nEinblick in Easy Ride (Check-in /Check-out-Funktion)\n\nUnter fachkundiger Anleitung lernen Sie Schritt für Schritt die App «SBB Mobile» zu nutzen. \nVoraussetzungen für die Teilnahme\nSie bringen Ihr eigenes Smartphone mit (iOS oder Android). Es wird vorausgesetzt\, dass Sie mit der grundlegenden Bedienung des Gerätes vertraut sind und die App «SBB Mobile» auf Ihrem Smartphone installiert ist. Vor dem Kurs erhalten Sie eine Anleitung zur Vorbereitung. \nAnmeldung zwingend erforderlich bis spätestens am 31. Mai 2026 per Mail / WhatsApp (Name\, Adresse\, Mailadresse\, Natelnummer und Jahrgang).\nWhatsApp / SMS an 077 408 27 08\noder kontakt@generationen-miteinander.ch \nFlyer
URL:https://www.generationen-miteinander.ch/event/mit-der-sbb-app-auf-reisen/
LOCATION:Niesenblick-Träff\, Schwendi 321\, Heiligenschwendi\, 3625\, Switzerland
ATTACH;FMTTYPE=image/jpeg:https://www.generationen-miteinander.ch/wp-content/uploads/2026/03/sbb_app.jpg
ORGANIZER;CN="Z%C3%A4me red%C3%A4%2C z%C3%A4me l%C3%A4be":MAILTO:kontakt@generationen-miteinander.ch
END:VEVENT
BEGIN:VEVENT
DTSTART;TZID=UTC:20260617T143000
DTEND;TZID=UTC:20260617T163000
DTSTAMP:20260421T112007
CREATED:20250521T101939Z
LAST-MODIFIED:20260310T094919Z
UID:502-1781706600-1781713800@www.generationen-miteinander.ch
SUMMARY:Fotografieren mit dem Smartphone - Tipps und Tricks
DESCRIPTION:Wenn Du Lust hast\, das Fotograﬁeren mit dem Smartphone zu entdecken oder verbessen\, dann bist Du hier richtig.\nWANN: Mittwoch\, 17. Juni\, 14.30 – 16:30 Uhr\nWO: Höﬂi-Kaﬁ\, Hünibachstrasse 65\nMit Fides Auf der Maur lernst Du die wichtigsten Schritte zu einem gelungenen Foto.\nBei gutem Wetter ﬁndet der zweite\, praktische Teil des Nachmittags im Erlebnisgarten statt.
URL:https://www.generationen-miteinander.ch/event/fotografieren-mit-dem-smartphone-tipps-und-tricks/
LOCATION:Höfli-Kafi\, Hünibachstrasse 65\, Hünibach\, Bern\, 3626\, Switzerland
ATTACH;FMTTYPE=image/jpeg:https://www.generationen-miteinander.ch/wp-content/uploads/2025/05/fotografieren_smartphone.jpg
ORGANIZER;CN="Z%C3%A4me red%C3%A4%2C z%C3%A4me l%C3%A4be":MAILTO:kontakt@generationen-miteinander.ch
END:VEVENT
BEGIN:VEVENT
DTSTART;TZID=UTC:20260618T180000
DTEND;TZID=UTC:20260618T200000
DTSTAMP:20260421T112007
CREATED:20260125T144317Z
LAST-MODIFIED:20260125T144317Z
UID:1111-1781805600-1781812800@www.generationen-miteinander.ch
SUMMARY:Stammtisch Juni 2026 - Generationen miteinander
DESCRIPTION:Wir treffen uns in lockerer Atmosphäre und tauschen unsere Ideen und Erwartungen zum Zusammenleben in unseren Gemeinden aus.\nMenschen aus allen Altersgruppen sind herzlich willkommen! Keine Anmeldung notwenig! \nDonnerstag\, 18. Juni 18 – 20 Uhr – Erlebnisgarten Hilterfingen\, Hünibachstrasse 59 \nmit Thomas Pﬁster\, Heilkräuterspezialist und Gartenagoge\nBei schlechtem Wetter im Höﬂi-Kaﬁ\, Hünibachstrasse 65\, Hünibach \nBei Fragen kannst du dich gerne melden unter\n077 408 27 08 (SMS / WhatsUp) oder kontakt@generationen-miteinander.ch
URL:https://www.generationen-miteinander.ch/event/stammtisch-juni-2026-generationen-miteinander/
LOCATION:Bern
ATTACH;FMTTYPE=image/png:https://www.generationen-miteinander.ch/wp-content/uploads/2025/11/Zaeme-laebe-zaeme-redae-Tischrunde--scaled-e1763658256130.png
ORGANIZER;CN="Z%C3%A4me red%C3%A4%2C z%C3%A4me l%C3%A4be":MAILTO:kontakt@generationen-miteinander.ch
END:VEVENT
BEGIN:VEVENT
DTSTART;TZID=UTC:20260814T180800
DTEND;TZID=UTC:20260814T233000
DTSTAMP:20260421T112007
CREATED:20250313T101945Z
LAST-MODIFIED:20251207T123929Z
UID:440-1786730880-1786750200@www.generationen-miteinander.ch
SUMMARY:Generationen-Disco / Vorankündigung!
DESCRIPTION:Nach dem Grosserfolg der Première im August 2025 findet auch im 2026 die Generationen-Disco statt! \nGenerationen-Disco für Jung & Alt mit Musik aus den 70er + 80er Jahren\, aufgelegt von DJ Schwinä \nEintritt frei – Bar mit feinen Drinks und Snacks \nBitte Termin bereits jetzt reservieren!
URL:https://www.generationen-miteinander.ch/event/generationen-disco/
LOCATION:Bistro „Nimm dr Zyt“ im Seegarten Hünibach\, Platanenweg 1\, Hünibach\, 3626
ATTACH;FMTTYPE=image/jpeg:https://www.generationen-miteinander.ch/wp-content/uploads/2025/03/disco_2026.jpg
ORGANIZER;CN="Z%C3%A4me red%C3%A4%2C z%C3%A4me l%C3%A4be":MAILTO:kontakt@generationen-miteinander.ch
END:VEVENT
BEGIN:VEVENT
DTSTART;TZID=UTC:20260902T140000
DTEND;TZID=UTC:20260902T160000
DTSTAMP:20260421T112007
CREATED:20250725T101701Z
LAST-MODIFIED:20260310T092822Z
UID:557-1788357600-1788364800@www.generationen-miteinander.ch
SUMMARY:SBB mobile - mit der App auf Reisen
DESCRIPTION:Möchten Sie unterwegs ein Billett mit dem Smartphone kaufen? Die beste Verbindung für Ihre Reise finden? Oder endlich von den Sparbilletten und -tageskarten profitieren\, die nur digital erhältlich sind. Wir zeigen Ihnen wie einfach der Kauf mit «SBB Mobile» ist. Lernen Sie im 2-stündigen Kurs die vielseitigen Möglichkeiten der App «SBB Mobile» kennen. So wird Ihr Smartphone zum praktischen Reisebegleiter. \nWas werden Sie lernen?\n\nFahrplan abfragen\nBillette kaufen\nVoraussetzungen für den Billettkauf kennen\n(SwissPass\, Zahlungsmittel)\nEinblick in Easy Ride (Check-in /Check-out-Funktion)\n\nUnter fachkundiger Anleitung lernen Sie Schritt für Schritt die App «SBB Mobile» zu nutzen. \nVoraussetzungen für die Teilnahme\nSie bringen Ihr eigenes Smartphone mit (iOS oder Android). Es wird vorausgesetzt\, dass Sie mit der grundlegenden Bedienung des Gerätes vertraut sind und die App «SBB Mobile» auf Ihrem Smartphone installiert ist. Vor dem Kurs erhalten Sie eine Anleitung zur Vorbereitung. \nAnmeldung zwingend erforderlich bis spätestens am 23. August per Mail / WhatsApp (Name\, Adresse\, Mailadresse\, Natelnummer und Jahrgang).\nWhatsApp / SMS an 077 408 27 08\noder kontakt@generationen-miteinander.ch
URL:https://www.generationen-miteinander.ch/event/reisen-mit-der-sbb-app/
LOCATION:Höfli-Kafi\, Hünibachstrasse 65\, Hünibach\, Bern\, 3626\, Switzerland
ATTACH;FMTTYPE=image/jpeg:https://www.generationen-miteinander.ch/wp-content/uploads/2025/07/sbb_fahrplan_weiss.jpg
ORGANIZER;CN="Z%C3%A4me red%C3%A4%2C z%C3%A4me l%C3%A4be":MAILTO:kontakt@generationen-miteinander.ch
END:VEVENT
END:VCALENDAR